BEGIN:VCALENDAR
PRODID:-//AT Content Types//AT Event//EN
VERSION:1.0
BEGIN:VEVENT
DTSTART:20220826T133000Z
DTEND:20220826T150000Z
DCREATED:20220822T072633Z
UID:ATEvent-60cec979ae7fa72e9c206b0826468642
SEQUENCE:0
LAST-MODIFIED:20220822T090739Z
SUMMARY:Bashar M. M. Farran’s PhD defense
DESCRIPTION:The Perception and Production of American English Sounds b
 y Palestinian Arabic Adolescents
LOCATION:Zoom online platform
PRIORITY:3
TRANSP:0
END:VEVENT
END:VCALENDAR
